BEGIN:VCALENDAR
VERSION:2.0
PRODID:-//Lake Lundgren Bible Camp - ECPv6.15.20//NONSGML v1.0//EN
CALSCALE:GREGORIAN
METHOD:PUBLISH
X-ORIGINAL-URL:https://llbc.org
X-WR-CALDESC:Events for Lake Lundgren Bible Camp
REFRESH-INTERVAL;VALUE=DURATION:PT1H
X-Robots-Tag:noindex
X-PUBLISHED-TTL:PT1H
BEGIN:VTIMEZONE
TZID:UTC
BEGIN:STANDARD
TZOFFSETFROM:+0000
TZOFFSETTO:+0000
TZNAME:UTC
DTSTART:20260101T000000
END:STANDARD
END:VTIMEZONE
BEGIN:VEVENT
DTSTART;VALUE=DATE:20270122
DTEND;VALUE=DATE:20270125
DTSTAMP:20260422T065123
CREATED:20240723T014534Z
LAST-MODIFIED:20260311T151208Z
UID:393-1800576000-1800835199@llbc.org
SUMMARY:Men's Winter Retreat #2
DESCRIPTION:You can look forward to being challenged from God’s Word\, hearing testimonies of God’s faithfulness and enjoying times of worship. Enjoy some broomball\, cross-country skiing\, tubing\, our annual ice cream sundae bar and more.  Then relax by the fires with a hot drink.  Come and play hard\, eat hearty and enjoy fellowship with other men of God. \nIn order to keep the tone of this retreat conducive to spiritual growth for adult men\, please do not register children ages 16 and younger.  17 year olds may be registered if coming with an adult family member. \n 
URL:https://llbc.org/event/mens-winter-retreat-2/
CATEGORIES:Men's Winter,Retreats
ATTACH;FMTTYPE=image/jpeg:https://llbc.org/wp-content/uploads/2024/07/IMG_9819-scaled.jpg
END:VEVENT
BEGIN:VEVENT
DTSTART;VALUE=DATE:20270226
DTEND;VALUE=DATE:20270301
DTSTAMP:20260422T065123
CREATED:20240723T013834Z
LAST-MODIFIED:20260311T143621Z
UID:386-1803600000-1803859199@llbc.org
SUMMARY:Women's Winter Retreat
DESCRIPTION:Come relax and take a break from the busyness of life back home. This is an opportunity for you to grow in your faith and to focus on your relationship with God. During this time you will get to be in fellowship with both new and old friends. Join in on the fun for Women’s Retreat at Lake Lundgren Bible Camp. \nSpeaker: Paula Gonzales\nMusic: TBD \n*Price includes the $50 registration fee.  Weekend package rate includes 2 nights\, 5 meals\, chapel program and use of all activity areas (plus all the coffee and hot cocoa you desire).  A Bathroom Cabin upgrade is available for an additional $14. \nAs this is a retreat designed for adult women\, we are only allowing women aged 17 and older to register and attend\, and we are not able to accommodate nursing infants.
URL:https://llbc.org/event/womens-winter-retreat/
CATEGORIES:Retreats,Women's Winter
ATTACH;FMTTYPE=image/jpeg:https://llbc.org/wp-content/uploads/2024/11/IMG_0666-scaled.jpg
END:VEVENT
BEGIN:VEVENT
DTSTART;VALUE=DATE:20270305
DTEND;VALUE=DATE:20270308
DTSTAMP:20260422T065123
CREATED:20240722T214042Z
LAST-MODIFIED:20260406T141135Z
UID:344-1804204800-1804463999@llbc.org
SUMMARY:Winter Couples Retreat
DESCRIPTION:If you and your spouse are looking for a reason to get away for a weekend this winter\, here’s your chance. In addition to worship sessions\, challenges from God’s Word\, and unique activities\, you will have the opportunity to experience winter activities\, warm fires and plenty of free time as a couple.  Reconnect as you date each other all weekend at a retreat tailored just for you.
URL:https://llbc.org/event/winter-couples-retreat/
CATEGORIES:Couples,Retreats
ATTACH;FMTTYPE=image/jpeg:https://llbc.org/wp-content/uploads/2024/07/IMG_0351-scaled.jpg
END:VEVENT
BEGIN:VEVENT
DTSTART;VALUE=DATE:20270312
DTEND;VALUE=DATE:20270315
DTSTAMP:20260422T065123
CREATED:20240722T213333Z
LAST-MODIFIED:20260418T163956Z
UID:341-1804809600-1805068799@llbc.org
SUMMARY:Spring Board Game Retreat
DESCRIPTION:For those choosing offsite housing\, a discount is available through  online registration. \nIn addition to bringing your favorite family-friendly games\, we will be demonstrating several new and classic games to learn.  Any ages of children are allowed that are able to participate in board games.
URL:https://llbc.org/event/spring-board-game-retreat/
CATEGORIES:Board Games,Retreats
ATTACH;FMTTYPE=image/jpeg:https://llbc.org/wp-content/uploads/2024/08/399651809_747330397439659_5080667129797439566_n-e1724079628513.jpg
END:VEVENT
END:VCALENDAR