BEGIN:VCALENDAR
VERSION:2.0
PRODID:-//Lake Lundgren Bible Camp - ECPv6.15.20//NONSGML v1.0//EN
CALSCALE:GREGORIAN
METHOD:PUBLISH
X-WR-CALNAME:Lake Lundgren Bible Camp
X-ORIGINAL-URL:https://llbc.org
X-WR-CALDESC:Events for Lake Lundgren Bible Camp
REFRESH-INTERVAL;VALUE=DURATION:PT1H
X-Robots-Tag:noindex
X-PUBLISHED-TTL:PT1H
BEGIN:VTIMEZONE
TZID:UTC
BEGIN:STANDARD
TZOFFSETFROM:+0000
TZOFFSETTO:+0000
TZNAME:UTC
DTSTART:20250101T000000
END:STANDARD
END:VTIMEZONE
BEGIN:VEVENT
DTSTART;VALUE=DATE:20260911
DTEND;VALUE=DATE:20260914
DTSTAMP:20260420T071405
CREATED:20240722T204112Z
LAST-MODIFIED:20260127T145123Z
UID:333-1789084800-1789343999@llbc.org
SUMMARY:Mother/Daughter Retreat
DESCRIPTION:Make it a special Mother/Daughter weekend as you learn from God’s Word. Enjoy activities designed just for you gals and have fun together! Mothers and daughters (7 years old and older) have enjoyed this special weekend away for years. \nSpeaker: TBA \nPlease note: We are not able to accommodate nursing infants. We do not guarantee private housing.
URL:https://llbc.org/event/mother-daughter-retreat/
CATEGORIES:Mother Daughter,Retreats
ATTACH;FMTTYPE=image/jpeg:https://llbc.org/wp-content/uploads/2024/07/IMG_8468-scaled.jpg
END:VEVENT
END:VCALENDAR