BEGIN:VCALENDAR
VERSION:2.0
PRODID:-//Lake Lundgren Bible Camp - ECPv6.15.20//NONSGML v1.0//EN
CALSCALE:GREGORIAN
METHOD:PUBLISH
X-ORIGINAL-URL:https://llbc.org
X-WR-CALDESC:Events for Lake Lundgren Bible Camp
REFRESH-INTERVAL;VALUE=DURATION:PT1H
X-Robots-Tag:noindex
X-PUBLISHED-TTL:PT1H
BEGIN:VTIMEZONE
TZID:UTC
BEGIN:STANDARD
TZOFFSETFROM:+0000
TZOFFSETTO:+0000
TZNAME:UTC
DTSTART:20260101T000000
END:STANDARD
END:VTIMEZONE
BEGIN:VEVENT
DTSTART;VALUE=DATE:20270312
DTEND;VALUE=DATE:20270315
DTSTAMP:20260421T071743
CREATED:20240722T213333Z
LAST-MODIFIED:20260418T163956Z
UID:341-1804809600-1805068799@llbc.org
SUMMARY:Spring Board Game Retreat
DESCRIPTION:For those choosing offsite housing\, a discount is available through  online registration. \nIn addition to bringing your favorite family-friendly games\, we will be demonstrating several new and classic games to learn.  Any ages of children are allowed that are able to participate in board games.
URL:https://llbc.org/event/spring-board-game-retreat/
CATEGORIES:Board Games,Retreats
ATTACH;FMTTYPE=image/jpeg:https://llbc.org/wp-content/uploads/2024/08/399651809_747330397439659_5080667129797439566_n-e1724079628513.jpg
END:VEVENT
END:VCALENDAR