BEGIN:VCALENDAR
VERSION:2.0
PRODID:-//Lake Lundgren Bible Camp - ECPv6.15.20//NONSGML v1.0//EN
CALSCALE:GREGORIAN
METHOD:PUBLISH
X-WR-CALNAME:Lake Lundgren Bible Camp
X-ORIGINAL-URL:https://llbc.org
X-WR-CALDESC:Events for Lake Lundgren Bible Camp
REFRESH-INTERVAL;VALUE=DURATION:PT1H
X-Robots-Tag:noindex
X-PUBLISHED-TTL:PT1H
BEGIN:VTIMEZONE
TZID:UTC
BEGIN:STANDARD
TZOFFSETFROM:+0000
TZOFFSETTO:+0000
TZNAME:UTC
DTSTART:20250101T000000
END:STANDARD
END:VTIMEZONE
BEGIN:VEVENT
DTSTART;VALUE=DATE:20260803
DTEND;VALUE=DATE:20260809
DTSTAMP:20260420T070745
CREATED:20240722T201055Z
LAST-MODIFIED:20260210T143510Z
UID:330-1785715200-1786233599@llbc.org
SUMMARY:Shoots (boys)
DESCRIPTION:What is Shoots? In short\, it’s an experience you’ll never forget. Roaring fires\, deep Biblical teaching\, team challenges\, personal challenges\, adventurous outings\, delicious food (some meals grilled or cooked over a campfire) and friendships that could last a lifetime! \nAs a discipleship camp\, applicants must profess faith in Christ and have a desire to grow in their faith. Focused sessions will teach Shoots campers what it means to be grounded on the truth of God’s Word and to boldly share that truth with those around them. \nWe incorporate personal and team challenges throughout the week that will push Shoots campers physically and spiritually as they experience biblical community. \nTo be accepted into the Shoots program\, please apply. \nApplications will be accepted as first come first served.  \nDrop off date and time: August 3 at 1-2:30pm. Pick up date and time: August 8 at 12:45pm \nLink to Shoots Application
URL:https://llbc.org/event/shoots-7th-9th-grade-boys/
CATEGORIES:Camp,Shoots
ATTACH;FMTTYPE=image/jpeg:https://llbc.org/wp-content/uploads/2025/10/IMG_8378.jpg
END:VEVENT
END:VCALENDAR