BEGIN:VCALENDAR
VERSION:2.0
PRODID:-//Lake Lundgren Bible Camp - ECPv6.15.20//NONSGML v1.0//EN
CALSCALE:GREGORIAN
METHOD:PUBLISH
X-WR-CALNAME:Lake Lundgren Bible Camp
X-ORIGINAL-URL:https://llbc.org
X-WR-CALDESC:Events for Lake Lundgren Bible Camp
REFRESH-INTERVAL;VALUE=DURATION:PT1H
X-Robots-Tag:noindex
X-PUBLISHED-TTL:PT1H
BEGIN:VTIMEZONE
TZID:UTC
BEGIN:STANDARD
TZOFFSETFROM:+0000
TZOFFSETTO:+0000
TZNAME:UTC
DTSTART:20250101T000000
END:STANDARD
END:VTIMEZONE
BEGIN:VEVENT
DTSTART;TZID=UTC:20260904T080000
DTEND;TZID=UTC:20260907T170000
DTSTAMP:20260425T075159
CREATED:20240722T203831Z
LAST-MODIFIED:20251223T150231Z
UID:331-1788508800-1788800400@llbc.org
SUMMARY:Labor Day Family Camp
DESCRIPTION:Come spend your weekend at Lake Lundgren Bible Camp! Enjoy encouraging chapel times\, special activities\, and time to connect as family and friends. \nSchedule includes chapel sessions with child care\, great food\, lots of outdoor activities\, variety show and more. Come have relaxing weekend together focusing on Christ! \nFamily Camp Pricing$84.00/family for bathroom cabin upgrade.  \n\n\n\n\n\n\nAdult (15+)\nYouth (10-14)\nChild (4-9)\nUnder 4\n\n\n\n\nFriday night – Monday\n$122.00\n$96.00\n$72.00\nFree\n\n\n\n(other housing options are available)
URL:https://llbc.org/event/labor-day-family-camp/
CATEGORIES:Camp,Family Camp
ATTACH;FMTTYPE=image/jpeg:https://llbc.org/wp-content/uploads/2024/07/IMG_7819-scaled.jpg
END:VEVENT
END:VCALENDAR