BEGIN:VCALENDAR
VERSION:2.0
PRODID:-//Lake Lundgren Bible Camp - ECPv6.15.20//NONSGML v1.0//EN
CALSCALE:GREGORIAN
METHOD:PUBLISH
X-ORIGINAL-URL:https://llbc.org
X-WR-CALDESC:Events for Lake Lundgren Bible Camp
REFRESH-INTERVAL;VALUE=DURATION:PT1H
X-Robots-Tag:noindex
X-PUBLISHED-TTL:PT1H
BEGIN:VTIMEZONE
TZID:UTC
BEGIN:STANDARD
TZOFFSETFROM:+0000
TZOFFSETTO:+0000
TZNAME:UTC
DTSTART:20250101T000000
END:STANDARD
END:VTIMEZONE
BEGIN:VEVENT
DTSTART;VALUE=DATE:20260703
DTEND;VALUE=DATE:20260707
DTSTAMP:20260419T104306
CREATED:20240722T223558Z
LAST-MODIFIED:20251008T134152Z
UID:356-1783036800-1783382399@llbc.org
SUMMARY:Mid-Summer Family Camp
DESCRIPTION:Get away to a peaceful setting for a vacation with a purpose!  Experience a great time of renewal and growth for your family!  There are activities and Bible Chapels for all ages.  Family\, food\, and fun make for a great weekend together. \nFamily Camp Pricing$84.00/family for bathroom cabin upgrade.  \n\n\n\n\n\n\nAdult (15+)\nYouth (10-14)\nChild (4-9)\nUnder 4\n\n\n\n\nFriday night – Monday\n$122.00\n$96.00\n$72.00\nFree\n\n\n\n(other housing options are available)
URL:https://llbc.org/event/mid-summer-family-camp/
CATEGORIES:Camp,Family Camp
ATTACH;FMTTYPE=image/jpeg:https://llbc.org/wp-content/uploads/2024/07/DSC_1206-14-scaled.jpg
END:VEVENT
END:VCALENDAR