BEGIN:VCALENDAR
VERSION:2.0
PRODID:-//Lake Lundgren Bible Camp - ECPv6.15.20//NONSGML v1.0//EN
CALSCALE:GREGORIAN
METHOD:PUBLISH
X-WR-CALNAME:Lake Lundgren Bible Camp
X-ORIGINAL-URL:https://llbc.org
X-WR-CALDESC:Events for Lake Lundgren Bible Camp
REFRESH-INTERVAL;VALUE=DURATION:PT1H
X-Robots-Tag:noindex
X-PUBLISHED-TTL:PT1H
BEGIN:VTIMEZONE
TZID:UTC
BEGIN:STANDARD
TZOFFSETFROM:+0000
TZOFFSETTO:+0000
TZNAME:UTC
DTSTART:20250101T000000
END:STANDARD
END:VTIMEZONE
BEGIN:VEVENT
DTSTART;VALUE=DATE:20260629
DTEND;VALUE=DATE:20260703
DTSTAMP:20260425T063048
CREATED:20240722T225542Z
LAST-MODIFIED:20260109T161105Z
UID:360-1782691200-1783036799@llbc.org
SUMMARY:Jr High Boys Backpacking Trip
DESCRIPTION:Backpacking trips are more difficult because everything needed for the duration of the hiking trip is carried in the backpack you will be wearing all along the way (tents\, food\, sleeping bags\, clothes\, supplies\, etc)\, over tougher terrain…which requires a higher level of physical endurance.
URL:https://llbc.org/event/jr-high-boys-backpacking-trip/
CATEGORIES:Adventure,Backpacking,Youth
ATTACH;FMTTYPE=image/jpeg:https://llbc.org/wp-content/uploads/2024/07/jrboys-backpacking.jpg
END:VEVENT
BEGIN:VEVENT
DTSTART;VALUE=DATE:20260707
DTEND;VALUE=DATE:20260711
DTSTAMP:20260425T063048
CREATED:20240722T225945Z
LAST-MODIFIED:20260109T173315Z
UID:363-1783382400-1783727999@llbc.org
SUMMARY:Jr High Girls Backpacking Trip
DESCRIPTION:Backpacking trips are more difficult because everything needed for the duration of the hiking trip is carried in the backpack you will be wearing all along the way (tents\, food\, sleeping bags\, clothes\, supplies\, etc)\, over tougher terrain…which requires a higher level of physical endurance.
URL:https://llbc.org/event/jr-high-girls-backpacking-trip/
CATEGORIES:Adventure,Backpacking,Youth
ATTACH;FMTTYPE=image/jpeg:https://llbc.org/wp-content/uploads/2024/08/448995697_894866576019373_6197698820051082509_n.jpg
END:VEVENT
BEGIN:VEVENT
DTSTART;VALUE=DATE:20260713
DTEND;VALUE=DATE:20260718
DTSTAMP:20260425T063048
CREATED:20240723T025145Z
LAST-MODIFIED:20251227T145812Z
UID:413-1783900800-1784332799@llbc.org
SUMMARY:Mountain Biking Trip
DESCRIPTION:Biking trips are a lower difficulty. Aside from the physical endurance needed to ride a significant part of each day\, all of the gear is held within the vehicle near the camp site–which means there is not a lot of hauling equipment. Since the vehicles are nearby each day\, foods held in coolers are provided which means that the food is more like what you would eat at home (versus freeze tried packaged meals). \nThe Mountain Bike Trip will take place in the Chequamegon National Forest\, located in North-Central Wisconsin (approx. 200 miles west of Lake Lundgren Bible Camp). We will be peddling on mountain bike trails made by the CAMBA (Chequamegon Area Mountain Bike Association)\, which include over 300 miles of trails ranging from easy to difficult. \nDepending on weather and trail conditions\, our typical day starts off at around 7:30am and includes peddling anywhere between ten and thirty miles each day before setting up camp. Some days we will come back to the same campsite\, some days we’ll relocate our “base camp” to a new area. Each evening will include devotions and reflection time. \nThere is no shortage of incredible sights\, as the trails meander around multiple lakes\, over bridges\, and through a beautiful part of God’s creation. There is so much to see on this trip!
URL:https://llbc.org/event/mountain-biking-trip/
CATEGORIES:Adventure,Mountain Biking,Youth
ATTACH;FMTTYPE=image/jpeg:https://llbc.org/wp-content/uploads/2024/08/363420530_678887047617328_7103491878627837533_n.jpg
END:VEVENT
BEGIN:VEVENT
DTSTART;VALUE=DATE:20260720
DTEND;VALUE=DATE:20260726
DTSTAMP:20260425T063048
CREATED:20240723T024759Z
LAST-MODIFIED:20251227T145814Z
UID:410-1784505600-1785023999@llbc.org
SUMMARY:Flambeau River Canoe Trip
DESCRIPTION:Canoe trips are a medium difficulty. The gear is mostly transported in the canoe\, which requires less physical effort. As a result\, foods held in coolers are provided which means that the food is more like what you would eat at home (versus freeze tried packaged meals). Some skill in navigating the rapids on the river adds some extra challenge (and extra fun). All technical gear for the trip is provided by camp which means you do not have to purchase specialized gear. \nThe Flambeau River is located in North-Central Wisconsin 160 miles west of Lake Lundgren Bible Camp. A river made by God and set apart by the Wisconsin DNR for canoe trips. \nThe trip begins with registration and orientation in the Adventure Trip building. We then head to the waterfront at LLBC to take our swim tests and learn how to canoe properly. After packing up our gear and loading the van\, we head off to our “put in” location on the river. We eat lunch on the way to our “put in” (usually Deadman’s Slough). Getting all the gear loaded and getting used to how the canoe handles are first days objectives as we paddle only a few miles to our first night’s camp site. \nUpon arrival at our camp site\, we set up camp followed by a meal over the open fire. Reading and learning from God’s word is part of every evening. Swimming\, fishing\, games\, stories and time around the camp fire round out the rest of the day.\nDepending on weather and vacancy of the river\, our day starts off at around 7:30. After breakfast we break camp and load all our gear in the canoes. Each day we canoe between 6 and 12 miles. \nThe river has rapids along the way. Many are unranked; some are ones and a few are twos. In a way only God could build\, the rapids on the river tend to get more difficult as the days go on. This allows young canoers time to mature in their abilities to steer the canoe as well as “reading the river”. The last and shortest day has the two best rapids. This is an exciting way to end the trip with a great sense of accomplishment. \nEach day is very different yet somewhat the same. We need water\, so stopping to fill up at each of the designated water pumps is a must. Fishing along the way and cooling down in the river is always fun on hot days. \nWe get an early start the last morning. After eating breakfast and packing\, we hit the water for a short fun stretch. Stopping along the way we scout the bigger rapids and help each other through. After finishing the “Beaver dam” (last rapids) we come to our “take out” where we land our canoes and haul our gear to the van. After packing it all up in van\, we head for LLBC. Along the way we stop for food and some fun as we stretch our legs and get out of the van. \nWe arrive at LLBC in the evening. We unpack and set up tents for the night. We spend some time cleaning up and playing games together. We eat breakfast at the dining hall\, followed by some cleanup and unpacking at the trip building. After all the work is done\, we sit-down and talk about the things we have learned and how God has shown himself to us this week on the Flambeau River.
URL:https://llbc.org/event/flambeau-river-canoe-trip/
CATEGORIES:Adventure,Canoeing,Youth
ATTACH;FMTTYPE=image/jpeg:https://llbc.org/wp-content/uploads/2024/07/canoe-trip.jpg
END:VEVENT
END:VCALENDAR