BEGIN:VCALENDAR
VERSION:2.0
PRODID:-//Lake Lundgren Bible Camp - ECPv6.15.20//NONSGML v1.0//EN
CALSCALE:GREGORIAN
METHOD:PUBLISH
X-WR-CALNAME:Lake Lundgren Bible Camp
X-ORIGINAL-URL:https://llbc.org
X-WR-CALDESC:Events for Lake Lundgren Bible Camp
REFRESH-INTERVAL;VALUE=DURATION:PT1H
X-Robots-Tag:noindex
X-PUBLISHED-TTL:PT1H
BEGIN:VTIMEZONE
TZID:America/New_York
BEGIN:DAYLIGHT
TZOFFSETFROM:-0500
TZOFFSETTO:-0400
TZNAME:EDT
DTSTART:20250309T070000
END:DAYLIGHT
BEGIN:STANDARD
TZOFFSETFROM:-0400
TZOFFSETTO:-0500
TZNAME:EST
DTSTART:20251102T060000
END:STANDARD
BEGIN:DAYLIGHT
TZOFFSETFROM:-0500
TZOFFSETTO:-0400
TZNAME:EDT
DTSTART:20260308T070000
END:DAYLIGHT
BEGIN:STANDARD
TZOFFSETFROM:-0400
TZOFFSETTO:-0500
TZNAME:EST
DTSTART:20261101T060000
END:STANDARD
BEGIN:DAYLIGHT
TZOFFSETFROM:-0500
TZOFFSETTO:-0400
TZNAME:EDT
DTSTART:20270314T070000
END:DAYLIGHT
BEGIN:STANDARD
TZOFFSETFROM:-0400
TZOFFSETTO:-0500
TZNAME:EST
DTSTART:20271107T060000
END:STANDARD
END:VTIMEZONE
BEGIN:VEVENT
DTSTART;TZID=America/New_York:20260516T080000
DTEND;TZID=America/New_York:20260523T170000
DTSTAMP:20260421T061318
CREATED:20240809T004150Z
LAST-MODIFIED:20251219T173450Z
UID:616-1778918400-1779555600@llbc.org
SUMMARY:New Mexico Service Adventure
DESCRIPTION:We will be serving at El Porvenir Christian Camp.\nThe camp had a forest fire come through in April 2022 and it destroyed many things around the camp. We are going to help in the cleaning and rebuilding process. There will be a couple days for travel out and back. Four days to serve at the camp with small adventures mixed in. One day will be set aside for an adventure day where we will spend time in the mountains together.
URL:https://llbc.org/event/new-mexico-service-adventure/
CATEGORIES:Adventure,Service Trip
ATTACH;FMTTYPE=image/jpeg:https://llbc.org/wp-content/uploads/2024/08/452041488_911965197642844_5080613789237313844_n.jpg
END:VEVENT
END:VCALENDAR