BEGIN:VCALENDAR
VERSION:2.0
PRODID:-//Lake Lundgren Bible Camp - ECPv6.15.20//NONSGML v1.0//EN
CALSCALE:GREGORIAN
METHOD:PUBLISH
X-ORIGINAL-URL:https://llbc.org
X-WR-CALDESC:Events for Lake Lundgren Bible Camp
REFRESH-INTERVAL;VALUE=DURATION:PT1H
X-Robots-Tag:noindex
X-PUBLISHED-TTL:PT1H
BEGIN:VTIMEZONE
TZID:UTC
BEGIN:STANDARD
TZOFFSETFROM:+0000
TZOFFSETTO:+0000
TZNAME:UTC
DTSTART:20250101T000000
END:STANDARD
END:VTIMEZONE
BEGIN:VEVENT
DTSTART;VALUE=DATE:20260212
DTEND;VALUE=DATE:20260216
DTSTAMP:20260425T063227
CREATED:20240723T023523Z
LAST-MODIFIED:20251008T134411Z
UID:405-1770854400-1771199999@llbc.org
SUMMARY:Men’s Winter Camping
DESCRIPTION:Wanna get away from it all? Join us as we snowshoe into the heart of the snowy U.P. wilderness and make camp for the weekend. Enjoy a great time of fellowship with other men as you experience the beauty of God’s winter creation. \nDownload Registration PDF
URL:https://llbc.org/event/mens-winter-camping/
CATEGORIES:Adventure,Mens/Womens Camp
ATTACH;FMTTYPE=image/jpeg:https://llbc.org/wp-content/uploads/2024/07/wintercamp.jpg
END:VEVENT
END:VCALENDAR